BEGIN:VCALENDAR
VERSION:2.0
PRODID:-//eventon.com NONSGML v1.0//EN
CALSCALE:GREGORIAN
METHOD:PUBLISH
BEGIN:VEVENT
UID:69e889e96bc37
DTSTAMP:20260422T084217Z
DTSTART:20260423T220000Z
DTEND:20260424T000000Z
LOCATION:CeNita Vineyards 591 Dock Dorsey Rd
SUMMARY:Paint & Sip
DESCRIPTION:Unleash your inner artist at CeNita! Join us for a unique paint
  night where you&#8217;ll create stunning botanical leaf art using a specia
 l drywall texture technique Hosted by The Artistic Box | Lydia Slaton\,  yo
 u&#8217;ll learn how to create beautiful textured leaf prints on a 12&#215;
 16 canvas\,  then bring them[..]\nhttps://helenga.org/events/paint-sip/
URL:https://helenga.org/events/paint-sip/
END:VEVENT
END:VCALENDAR