BEGIN:VCALENDAR
VERSION:2.0
PRODID:-//eventon.com NONSGML v1.0//EN
CALSCALE:GREGORIAN
METHOD:PUBLISH
BEGIN:VEVENT
UID:69e888baeca1c
DTSTAMP:20260422T083714Z
DTSTART:20260222T193000Z
DTEND:20260222T213000Z
LOCATION:SNCA 283 Highway 255 North
SUMMARY:The Valley Harmony Radio
DESCRIPTION:Bob Prim-longtime pillar of the Sautee community-once again wra
 ngles the ever-popular Radio Utility Players to bring The Valley Harmony R
 adio Show back to the Center Theatre.For more than a decade\,  Bob has gat
 hered an impressive mix of local musicians\,  performers\,  and behind-the-
 scenes talents to create a beloved musical variety show that supports[..]\n
 https://helenga.org/events/the-valley-harmony-radio/var/ri-1.l-L1
URL:https://helenga.org/events/the-valley-harmony-radio/var/ri-1.l-L1
END:VEVENT
END:VCALENDAR