BEGIN:VCALENDAR
VERSION:2.0
PRODID:-//eventon.com NONSGML v1.0//EN
CALSCALE:GREGORIAN
METHOD:PUBLISH
BEGIN:VEVENT
UID:69e8889705f42
DTSTAMP:20260422T083639Z
DTSTART:20260319T230000Z
DTEND:20260320T030000Z
LOCATION:Unicoi State Park &amp; Lodge 1788 Hwy 356
SUMMARY:Unicoi Emerald Isle Social
DESCRIPTION:Unicoi Emerald Isle Social\nhttps://helenga.org/events/unicoi-e
 merald-isle-social/
URL:https://helenga.org/events/unicoi-emerald-isle-social/
END:VEVENT
END:VCALENDAR