BEGIN:VCALENDAR
VERSION:2.0
PRODID:-//eventon.com NONSGML v1.0//EN
CALSCALE:GREGORIAN
METHOD:PUBLISH
BEGIN:VEVENT
UID:69e4c82dd1cfe
DTSTAMP:20260419T121853Z
DTSTART:20260115T213000Z
DTEND:20260115T223000Z
LOCATION:Helen Library 90 Pete's Park Rd.
SUMMARY:Teen Coding Night
DESCRIPTION:Teen Coding Night\nhttps://helenga.org/events/teen-coding-night
 /
URL:https://helenga.org/events/teen-coding-night/
END:VEVENT
END:VCALENDAR