BEGIN:VCALENDAR
VERSION:2.0
PRODID:-//eventon.com NONSGML v1.0//EN
CALSCALE:GREGORIAN
METHOD:PUBLISH
BEGIN:VEVENT
UID:69e888a67ef27
DTSTAMP:20260422T083654Z
DTSTART:20260122T223000Z
DTEND:20260123T045900Z
LOCATION:Helen Library 90 Pete's Park Rd.
SUMMARY:Adult Craft Night
DESCRIPTION:Adult Craft Night\nhttps://helenga.org/events/adult-craft-night
 -2/
URL:https://helenga.org/events/adult-craft-night-2/
END:VEVENT
END:VCALENDAR