BEGIN:VCALENDAR
VERSION:2.0
PRODID:-//eventon.com NONSGML v1.0//EN
CALSCALE:GREGORIAN
METHOD:PUBLISH
BEGIN:VEVENT
UID:69e888b23f938
DTSTAMP:20260422T083706Z
DTSTART:20260205T223000Z
DTEND:20260206T045900Z
LOCATION:Helen Library 90 Pete's Park Rd.
SUMMARY:Adult Craft Night
DESCRIPTION:Adult Craft Night\nhttps://helenga.org/events/adult-craft-night
 /
URL:https://helenga.org/events/adult-craft-night/
END:VEVENT
END:VCALENDAR