BEGIN:VCALENDAR
VERSION:2.0
PRODID:-//eventon.com NONSGML v1.0//EN
CALSCALE:GREGORIAN
METHOD:PUBLISH
BEGIN:VEVENT
UID:69e4dae12d763
DTSTAMP:20260419T133841Z
DTSTART:20251025T213000Z
DTEND:20251026T035900Z
LOCATION:Anna Ruby Falls 3455 Anna Ruby Falls Rd
SUMMARY:Foxfire Autumn Glow
DESCRIPTION:Join us for an evening stroll to the falls in celebration of th
 e bright autumnal palette of a cove forest… While our summertime foxfire 
 hikes explore the bioluminescent worlds of Orfelia fultoni gnat larvae as w
 ell as several species of fireflies\,  the autumn season at Anna Ruby Falls
  offers a[..]\nhttps://helenga.org/events/foxfire-autumn-glow/
URL:https://helenga.org/events/foxfire-autumn-glow/
END:VEVENT
END:VCALENDAR