BEGIN:VCALENDAR
VERSION:2.0
PRODID:-//eventon.com NONSGML v1.0//EN
CALSCALE:GREGORIAN
METHOD:PUBLISH
BEGIN:VEVENT
UID:69ea8bc092912
DTSTAMP:20260423T211440Z
DTSTART:20260925T190000Z
DTEND:20260925T220000Z
LOCATION:Unicoi Hill Park North Main Street
SUMMARY:Helen's Alpine Village Arts & Craft Show
DESCRIPTION:This is a three-day event being held in the middle of the Octob
 erfest in Helen\,  Ga.\nhttps://helenga.org/events/helens-alpine-village-ar
 ts-craft-show-2/
URL:https://helenga.org/events/helens-alpine-village-arts-craft-show-2/
END:VEVENT
END:VCALENDAR