BEGIN:VCALENDAR
VERSION:2.0
PRODID:-//eventon.com NONSGML v1.0//EN
CALSCALE:GREGORIAN
METHOD:PUBLISH
BEGIN:VEVENT
UID:69e61b777636f
DTSTAMP:20260420T122631Z
DTSTART:20260328T100000Z
DTEND:20260328T180000Z
LOCATION:Helen Festhalle 1074 Edelweiss St.
SUMMARY:37th Annual Helen Trout Tournament
DESCRIPTION:The Helen Chamber of Commerce is proud to present the 37th Annu
 al Helen Trout Tournament on Saturday\,  March 28\,  2026. Fish the famous 
 Chattahoochee River in Helen\,  Georgia for your chance to catch tagged fis
 h worth up to $1000! The Helen Chamber of Commerce will stock the Chattahoo
 chee River with[..]\nhttps://helenga.org/events/37th-annual-helen-trout-tou
 rnament/
URL:https://helenga.org/events/37th-annual-helen-trout-tournament/
END:VEVENT
END:VCALENDAR