BEGIN:VCALENDAR
VERSION:2.0
PRODID:-//eventon.com NONSGML v1.0//EN
CALSCALE:GREGORIAN
METHOD:PUBLISH
BEGIN:VEVENT
UID:69e4cbc8afb4c
DTSTAMP:20260419T123416Z
DTSTART:20250719T140000Z
DTEND:20250719T160000Z
LOCATION:Smithgall Woods State Park 61 Tsalaki Trail
SUMMARY:Magic Mycology
DESCRIPTION:Join mushroom expert Brian Hale to learn all things mushrooms! 
 Spend 1 hour in the &#8220;classroom&#8221; going over the basics of mushro
 om identification\,  uses\,  and how to avoid any bad foraging experiences.
  After the class\,  we will head outside to see what we can find! If you ar
 e a beginner[..]\nhttps://helenga.org/events/magic-mycology/
URL:https://helenga.org/events/magic-mycology/
END:VEVENT
END:VCALENDAR