BEGIN:VCALENDAR
VERSION:2.0
PRODID:-//eventon.com NONSGML v1.0//EN
CALSCALE:GREGORIAN
METHOD:PUBLISH
BEGIN:VEVENT
UID:69e88a4fad77c
DTSTAMP:20260422T084359Z
DTSTART:20250620T153000Z
DTEND:20250620T200000Z
LOCATION:Lavender Lamb Farm 176 Bugle Dr\,  Clevenland\,  GA 30528
SUMMARY:U-Pick Lavender Days 2025
DESCRIPTION:You will enjoy our amazing mountain view and tranquility. All w
 hile the Lavender shows off and perfumes the fresh air here on the farm. Yo
 u can choose an admission only ticket to walk &amp; enjoy the Lavender in B
 loom or you can choose a combo ticket which includes admission for[..]\nhtt
 ps://helenga.org/events/u-pick-lavender-days-2025-8/
URL:https://helenga.org/events/u-pick-lavender-days-2025-8/
END:VEVENT
END:VCALENDAR