BEGIN:VCALENDAR
VERSION:2.0
PRODID:-//eventon.com NONSGML v1.0//EN
CALSCALE:GREGORIAN
METHOD:PUBLISH
BEGIN:VEVENT
UID:69e89c84386e7
DTSTAMP:20260422T100140Z
DTSTART:20250320T180000Z
DTEND:20250321T035900Z
LOCATION:Helen Library 90 Pete's Park Rd.
SUMMARY:Crochet with Willow Grace
DESCRIPTION:Crochet with Willow Grace\nhttps://helenga.org/events/crochet-w
 ith-willow-grace/
URL:https://helenga.org/events/crochet-with-willow-grace/
END:VEVENT
END:VCALENDAR