BEGIN:VCALENDAR
VERSION:2.0
PRODID:-//eventon.com NONSGML v1.0//EN
CALSCALE:GREGORIAN
METHOD:PUBLISH
BEGIN:VEVENT
UID:69e4cbe2817f8
DTSTAMP:20260419T123442Z
DTSTART:20250204T180000Z
DTEND:20250204T190000Z
LOCATION:Helen Library 90 Pete's Park Rd.
SUMMARY:Kidz Book Club
DESCRIPTION:Kidz Book Club\nhttps://helenga.org/events/kidz-book-club-6/
URL:https://helenga.org/events/kidz-book-club-6/
END:VEVENT
END:VCALENDAR