BEGIN:VCALENDAR
VERSION:2.0
PRODID:-//eventon.com NONSGML v1.0//EN
CALSCALE:GREGORIAN
METHOD:PUBLISH
BEGIN:VEVENT
UID:69e4c75cc3ba4
DTSTAMP:20260419T121524Z
DTSTART:20241221
DTEND:20241222
LOCATION:Helen Arts &amp; Heritage Center 25 Chattahoochee Strasse
SUMMARY:Shimmering Snowflake Ornaments
DESCRIPTION:We&#8217;ll be creating a set of three (small\,  medium and lar
 ge) polymer clay snowflake ornaments with oven-bake clay. Add cutouts and p
 ress in markings to make each snowflake uniquely yours!  We&#8217;ll have 
 various colors of shimmery powders to bring your ornament to life. Go with 
 the traditional pearl luster or[..]\nhttps://helenga.org/events/shimmering-
 snowflake-ornaments/
URL:https://helenga.org/events/shimmering-snowflake-ornaments/
END:VEVENT
END:VCALENDAR