BEGIN:VCALENDAR
VERSION:2.0
PRODID:-//eventon.com NONSGML v1.0//EN
CALSCALE:GREGORIAN
METHOD:PUBLISH
BEGIN:VEVENT
UID:69e89c53d9323
DTSTAMP:20260422T100051Z
DTSTART:20241001T193000Z
DTEND:20241001T203000Z
LOCATION:Helen Library 90 Pete's Park Rd.
SUMMARY:Lego Day
DESCRIPTION:Lego Day\nhttps://helenga.org/events/lego-day-2/
URL:https://helenga.org/events/lego-day-2/
END:VEVENT
END:VCALENDAR