BEGIN:VCALENDAR
VERSION:2.0
PRODID:-//eventon.com NONSGML v1.0//EN
CALSCALE:GREGORIAN
METHOD:PUBLISH
BEGIN:VEVENT
UID:69e4caa54c46e
DTSTAMP:20260419T122925Z
DTSTART:20240718T213000Z
DTEND:20240719T035900Z
LOCATION:Helen Library 90 Pete's Park Rd.
SUMMARY:Painting Pottery
DESCRIPTION:Painting Pottery\nhttps://helenga.org/events/painting-pottery/
URL:https://helenga.org/events/painting-pottery/
END:VEVENT
END:VCALENDAR