BEGIN:VCALENDAR
VERSION:2.0
PRODID:-//eventon.com NONSGML v1.0//EN
CALSCALE:GREGORIAN
METHOD:PUBLISH
BEGIN:VEVENT
UID:69e89f9484592
DTSTAMP:20260422T101444Z
DTSTART:20240512T150000Z
DTEND:20240512T190000Z
LOCATION:Valhalla Resort 688 Bahn Innsbruck
SUMMARY:Mother's Day Brunch
DESCRIPTION:Mother's Day Brunch\nhttps://helenga.org/events/mothers-day-bru
 nch/
URL:https://helenga.org/events/mothers-day-brunch/
END:VEVENT
END:VCALENDAR