BEGIN:VCALENDAR
VERSION:2.0
PRODID:-//eventon.com NONSGML v1.0//EN
CALSCALE:GREGORIAN
METHOD:PUBLISH
BEGIN:VEVENT
UID:69e4ca3b67f49
DTSTAMP:20260419T122739Z
DTSTART:20240430T140000Z
DTEND:20240430T150000Z
LOCATION:Helen Library 90 Pete's Park Rd.
SUMMARY:Tech Tuesdays
DESCRIPTION:Tech Tuesdays\nhttps://helenga.org/events/tech-tuesdays/
URL:https://helenga.org/events/tech-tuesdays/
END:VEVENT
END:VCALENDAR