BEGIN:VCALENDAR
VERSION:2.0
PRODID:-//eventon.com NONSGML v1.0//EN
CALSCALE:GREGORIAN
METHOD:PUBLISH
BEGIN:VEVENT
UID:69e4cba80a5db
DTSTAMP:20260419T123344Z
DTSTART:20240323T140000Z
DTEND:20240323T160000Z
LOCATION:Hardman Farm Historic Site 143 Highway 17
SUMMARY:Sweep the Hooch
DESCRIPTION:Help keep our Chattahoochee River clean. This event is part of 
 a state-wide program by Chattahoochee RiverKeepers. Volunteers clean up the
  banks of the river. Registration is required\,  but participation is free.
  Contact sweepthehooch.org to register.\nhttps://helenga.org/events/sweep-t
 he-hooch/
URL:https://helenga.org/events/sweep-the-hooch/
END:VEVENT
END:VCALENDAR