BEGIN:VCALENDAR
VERSION:2.0
PRODID:-//eventon.com NONSGML v1.0//EN
CALSCALE:GREGORIAN
METHOD:PUBLISH
BEGIN:VEVENT
UID:69e62dbed6ef3
DTSTAMP:20260420T134430Z
DTSTART:20240305T203000Z
DTEND:20240305T213000Z
LOCATION:Helen Library 90 Pete's Park Rd.
SUMMARY:Lego Day
DESCRIPTION:Lego Day\nhttps://helenga.org/events/lego-day/
URL:https://helenga.org/events/lego-day/
END:VEVENT
END:VCALENDAR