BEGIN:VCALENDAR
VERSION:2.0
PRODID:-//eventon.com NONSGML v1.0//EN
CALSCALE:GREGORIAN
METHOD:PUBLISH
BEGIN:VEVENT
UID:69e89c983053c
DTSTAMP:20260422T100200Z
DTSTART:20240228T180000Z
DTEND:20240228T193000Z
LOCATION:Helen Library 90 Pete's Park Rd.
SUMMARY:Homeschool Wednesday
DESCRIPTION:Homeschool Wednesday\nhttps://helenga.org/events/homeschool-wed
 nesday/
URL:https://helenga.org/events/homeschool-wednesday/
END:VEVENT
END:VCALENDAR