BEGIN:VCALENDAR
VERSION:2.0
PRODID:-//eventon.com NONSGML v1.0//EN
CALSCALE:GREGORIAN
METHOD:PUBLISH
BEGIN:VEVENT
UID:69e88928d69e3
DTSTAMP:20260422T083904Z
DTSTART:20240314T150000Z
DTEND:20240314T160000Z
LOCATION:Helen Library 90 Pete's Park Rd.
SUMMARY:Vet-To-Vet
DESCRIPTION:Vet-To-Vet\nhttps://helenga.org/events/vet-to-vet/
URL:https://helenga.org/events/vet-to-vet/
END:VEVENT
END:VCALENDAR