BEGIN:VCALENDAR
VERSION:2.0
PRODID:-//eventon.com NONSGML v1.0//EN
CALSCALE:GREGORIAN
METHOD:PUBLISH
BEGIN:VEVENT
UID:69e8888d66871
DTSTAMP:20260422T083629Z
DTSTART:20240420T150000Z
DTEND:20240420T200000Z
LOCATION:Lavender Lamb Farm 176 Bugle Dr\,  Clevenland\,  GA 30528
SUMMARY:Annual Lavender Plant Sale
DESCRIPTION:We will be selling live Lavender plants of different varieties 
 beginning in April and will continue thru the end of June while supplies la
 st. We will give you instructions on how to grow Lavender and will have sup
 plies for sale to help you grow your Lavender as well. No tickets[..]\nhttp
 s://helenga.org/events/annual-lavender-plant-sale/
URL:https://helenga.org/events/annual-lavender-plant-sale/
END:VEVENT
END:VCALENDAR