BEGIN:VCALENDAR
VERSION:2.0
PRODID:-//eventon.com NONSGML v1.0//EN
CALSCALE:GREGORIAN
METHOD:PUBLISH
BEGIN:VEVENT
UID:69e89f8ac0e76
DTSTAMP:20260422T101434Z
DTSTART:20240126T000000Z
DTEND:20240126T045000Z
LOCATION:Valhalla Resort 688 Bahn Innsbruck
SUMMARY:Burns Night Dinner
DESCRIPTION:Burns Night Dinner\nhttps://helenga.org/events/burns-night-dinn
 er/
URL:https://helenga.org/events/burns-night-dinner/
END:VEVENT
END:VCALENDAR