BEGIN:VCALENDAR
VERSION:2.0
PRODID:-//eventon.com NONSGML v1.0//EN
CALSCALE:GREGORIAN
METHOD:PUBLISH
BEGIN:VEVENT
UID:69e89c707c297
DTSTAMP:20260422T100120Z
DTSTART:20231101
DTEND:20231201
LOCATION:283 Highway 255 North
SUMMARY:Dwayne Crocker: Expressions in Clay
DESCRIPTION:The Folk Pottery Museum of Northeast Georgia is proud to presen
 t its latest featured exhibit: Dwayne Crocker: Expressions in Clay\,  which
  opens on November 4. The exhibit will be on display until May 3\,  2024. C
 rocker grew up in the foothills of the North Georgia mountains in Lula and 
 later[..]\nhttps://helenga.org/events/dwayne-crocker-expressions-in-clay/
URL:https://helenga.org/events/dwayne-crocker-expressions-in-clay/
END:VEVENT
END:VCALENDAR