BEGIN:VCALENDAR
VERSION:2.0
PRODID:-//eventon.com NONSGML v1.0//EN
CALSCALE:GREGORIAN
METHOD:PUBLISH
BEGIN:VEVENT
UID:69e888d298a33
DTSTAMP:20260422T083738Z
DTSTART:20231007T151500Z
DTEND:20231007T193000Z
LOCATION:Lavender Lamb Farm 176 Bugle Dr\,  Clevenland\,  GA 30528
SUMMARY:Fill your own Sachet
DESCRIPTION:Fill your own Sachet with Lavender grown on our Farm!! Cost is 
 $5 per Sachet! Makes a great Christmas Gift!!\nhttps://helenga.org/events/f
 ill-your-own-sachet-2/
URL:https://helenga.org/events/fill-your-own-sachet-2/
END:VEVENT
END:VCALENDAR