BEGIN:VCALENDAR
VERSION:2.0
PRODID:-//eventon.com NONSGML v1.0//EN
CALSCALE:GREGORIAN
METHOD:PUBLISH
BEGIN:VEVENT
UID:69e88a3d43304
DTSTAMP:20260422T084341Z
DTSTART:20240504T140000Z
DTEND:20240504T150000Z
LOCATION:Smithgall Woods State Park 61 Tsalaki Trail
SUMMARY:First Visit Tour
DESCRIPTION:Want a guided tour of Georgia&#8217;s premiere conservation par
 k? Join volunteers to learn more about Smithgall Woods via a van tour of th
 e park. See the covered bridge\,  the famous Dukes Creek\,  and our renowne
 d cottages. There is no charge for the tour\,  but donations are welcomed. 
 Reservations are required.\nhttps://helenga.org/events/first-visit-tour/var
 /ri-7.l-L1
URL:https://helenga.org/events/first-visit-tour/var/ri-7.l-L1
END:VEVENT
END:VCALENDAR