BEGIN:VCALENDAR
VERSION:2.0
PRODID:-//eventon.com NONSGML v1.0//EN
CALSCALE:GREGORIAN
METHOD:PUBLISH
BEGIN:VEVENT
UID:69e89c11bd42f
DTSTAMP:20260422T095945Z
DTSTART:20230618T180000Z
DTEND:20230619T000000Z
LOCATION:Yonah Mountain Vineyards 1717 Highway 255 South
SUMMARY:The Signature Wine Event
DESCRIPTION:Treat the Dad in your life to this special event! Join owners B
 ob\,  Jane\,  and Eric Miller taste through our unreleased and award winn
 ing wines! This 90 minute program will be held in our Vineyard Ballroom. En
 joy an intimate seated comparison wine tasting with gourmet small bite pair
 ings. Wine List: 2018 Vineyard[..]\nhttps://helenga.org/events/the-signatur
 e-wine-event/
URL:https://helenga.org/events/the-signature-wine-event/
END:VEVENT
END:VCALENDAR