BEGIN:VCALENDAR
VERSION:2.0
PRODID:-//eventon.com NONSGML v1.0//EN
CALSCALE:GREGORIAN
METHOD:PUBLISH
BEGIN:VEVENT
UID:69e4dd7cb2ce8
DTSTAMP:20260419T134948Z
DTSTART:20221020T170000Z
DTEND:20221020T190000Z
LOCATION:Lavender Lamb Farm 176 Bugle Dr\,  Clevenland\,  GA 30528
SUMMARY:Make a Dried Lavender Wreath
DESCRIPTION:You will be given everything you need to create a beautiful Dri
 ed Lavender Wreath\,  You will start with either an 8&#8243; wire frame (yi
 elds 8&#8243; &#8211; 9&#8243; wreath) or a 14&#8243; wire frame (yields 15
 &#8243; &#8211; 16&#8243; wreath)\,  you pick the size &amp; price when you
  check out. This class[..]\nhttps://helenga.org/events/make-a-dried-lavende
 r-wreath-2/
URL:https://helenga.org/events/make-a-dried-lavender-wreath-2/
END:VEVENT
END:VCALENDAR