BEGIN:VCALENDAR
VERSION:2.0
PRODID:-//eventon.com NONSGML v1.0//EN
CALSCALE:GREGORIAN
METHOD:PUBLISH
BEGIN:VEVENT
UID:69e88913a2910
DTSTAMP:20260422T083843Z
DTSTART:20230415T150000Z
DTEND:20230415T200000Z
LOCATION:Lavender Lamb Farm 176 Bugle Dr\,  Clevenland\,  GA 30528
SUMMARY:Live Plant Sale
DESCRIPTION:Lavender Lamb Farm is a beautiful hillside field of lavender wi
 th picturesque mountain views\,  providing many photo opportunities and a u
 nique gift shoppe full of handmade lavender products. Lavender Lamb Farm\, 
  founded in early 2016\,  is the culmination of the dream of Susan and Herb
  Lamb. The Lavender Shoppe sells[..]\nhttps://helenga.org/events/live-plant
 -sale/
URL:https://helenga.org/events/live-plant-sale/
END:VEVENT
END:VCALENDAR