BEGIN:VCALENDAR
VERSION:2.0
PRODID:-//eventon.com NONSGML v1.0//EN
CALSCALE:GREGORIAN
METHOD:PUBLISH
BEGIN:VEVENT
UID:69e6317561d18
DTSTAMP:20260420T140021Z
DTSTART:20250329T100000Z
DTEND:20250329T180000Z
LOCATION:Helen 1074 Edelweiss Strasse
SUMMARY:36th Annual Trout Tournament
DESCRIPTION:Open to all ages. Entry fee includes two raffle tickets for all
  entries and a tournament tee shirt for the first 200 entries. Fish the Cha
 ttahoochee River for cash prizes in tagged fish.\nhttps://helenga.org/event
 s/33rd-annual-trout-tournament/
URL:https://helenga.org/events/33rd-annual-trout-tournament/
END:VEVENT
END:VCALENDAR